BEGIN:VCALENDAR
VERSION:2.0
PRODID:-//Magnolia Heights Neighborhood Association - ECPv6.15.20//NONSGML v1.0//EN
CALSCALE:GREGORIAN
METHOD:PUBLISH
X-ORIGINAL-URL:https://magnoliaheightsneighborhood.com
X-WR-CALDESC:Events for Magnolia Heights Neighborhood Association
REFRESH-INTERVAL;VALUE=DURATION:PT1H
X-Robots-Tag:noindex
X-PUBLISHED-TTL:PT1H
BEGIN:VTIMEZONE
TZID:America/New_York
BEGIN:DAYLIGHT
TZOFFSETFROM:-0500
TZOFFSETTO:-0400
TZNAME:EDT
DTSTART:20250309T070000
END:DAYLIGHT
BEGIN:STANDARD
TZOFFSETFROM:-0400
TZOFFSETTO:-0500
TZNAME:EST
DTSTART:20251102T060000
END:STANDARD
BEGIN:DAYLIGHT
TZOFFSETFROM:-0500
TZOFFSETTO:-0400
TZNAME:EDT
DTSTART:20260308T070000
END:DAYLIGHT
BEGIN:STANDARD
TZOFFSETFROM:-0400
TZOFFSETTO:-0500
TZNAME:EST
DTSTART:20261101T060000
END:STANDARD
BEGIN:DAYLIGHT
TZOFFSETFROM:-0500
TZOFFSETTO:-0400
TZNAME:EDT
DTSTART:20270314T070000
END:DAYLIGHT
BEGIN:STANDARD
TZOFFSETFROM:-0400
TZOFFSETTO:-0500
TZNAME:EST
DTSTART:20271107T060000
END:STANDARD
END:VTIMEZONE
BEGIN:VEVENT
DTSTART;TZID=America/New_York:20260222T170000
DTEND;TZID=America/New_York:20260222T180000
DTSTAMP:20260423T162729
CREATED:20260121T175010Z
LAST-MODIFIED:20260121T175010Z
UID:1807-1771779600-1771783200@magnoliaheightsneighborhood.com
SUMMARY:Planning Meeting for Block Party
DESCRIPTION:You are welcome to join in and add your awesome energy to the Block Party! \nWe have a lot of experienced people  who will work side by side with you and create another amazing event. \n\nLocation:  George’s house 3319 12th St N\nDate:  Sunday Feb 22\nTime:  5 – 6pm\nSnacks available\n\nThis year the Block Party is scheduled for Saturday April 18th\, 4pm-8pm. \nLink to that event:  https://magnoliaheightsneighborhood.com/event/2026-spring-block-party/ \n 
URL:https://magnoliaheightsneighborhood.com/event/planning-meeting-for-block-party-2/
END:VEVENT
END:VCALENDAR