BEGIN:VCALENDAR
VERSION:2.0
PRODID:-//Magnolia Heights Neighborhood Association - ECPv6.15.20//NONSGML v1.0//EN
CALSCALE:GREGORIAN
METHOD:PUBLISH
X-WR-CALNAME:Magnolia Heights Neighborhood Association
X-ORIGINAL-URL:https://magnoliaheightsneighborhood.com
X-WR-CALDESC:Events for Magnolia Heights Neighborhood Association
REFRESH-INTERVAL;VALUE=DURATION:PT1H
X-Robots-Tag:noindex
X-PUBLISHED-TTL:PT1H
BEGIN:VTIMEZONE
TZID:America/New_York
BEGIN:DAYLIGHT
TZOFFSETFROM:-0500
TZOFFSETTO:-0400
TZNAME:EDT
DTSTART:20200308T070000
END:DAYLIGHT
BEGIN:STANDARD
TZOFFSETFROM:-0400
TZOFFSETTO:-0500
TZNAME:EST
DTSTART:20201101T060000
END:STANDARD
BEGIN:DAYLIGHT
TZOFFSETFROM:-0500
TZOFFSETTO:-0400
TZNAME:EDT
DTSTART:20210314T070000
END:DAYLIGHT
BEGIN:STANDARD
TZOFFSETFROM:-0400
TZOFFSETTO:-0500
TZNAME:EST
DTSTART:20211107T060000
END:STANDARD
BEGIN:DAYLIGHT
TZOFFSETFROM:-0500
TZOFFSETTO:-0400
TZNAME:EDT
DTSTART:20220313T070000
END:DAYLIGHT
BEGIN:STANDARD
TZOFFSETFROM:-0400
TZOFFSETTO:-0500
TZNAME:EST
DTSTART:20221106T060000
END:STANDARD
BEGIN:DAYLIGHT
TZOFFSETFROM:-0500
TZOFFSETTO:-0400
TZNAME:EDT
DTSTART:20230312T070000
END:DAYLIGHT
BEGIN:STANDARD
TZOFFSETFROM:-0400
TZOFFSETTO:-0500
TZNAME:EST
DTSTART:20231105T060000
END:STANDARD
END:VTIMEZONE
BEGIN:VEVENT
DTSTART;TZID=America/New_York:20221112T080000
DTEND;TZID=America/New_York:20221112T130000
DTSTAMP:20260424T000647
CREATED:20221004T204607Z
LAST-MODIFIED:20221111T142239Z
UID:1232-1668240000-1668258000@magnoliaheightsneighborhood.com
SUMMARY:Yard Sale
DESCRIPTION:Come help the neighbors of Magnolia Heights clear out some clutter by visiting many of our Yard Sales set up throughout the neighborhood.\nMagnolia Heights in Saint Petersburg\, FL is located between 30th Avenue North – 38th Avenue North and 9th Street MLK North – 16th Street North.\nNeighbors can post here to advise their address for Sale\n\nPlease check the attached image of the map \nSee you there!
URL:https://magnoliaheightsneighborhood.com/event/yard-sale/
CATEGORIES:Yard Sale
ATTACH;FMTTYPE=image/png:https://magnoliaheightsneighborhood.com/wp-content/uploads/2022/10/maps4.png
END:VEVENT
BEGIN:VEVENT
DTSTART;TZID=America/New_York:20211106T080000
DTEND;TZID=America/New_York:20211106T130000
DTSTAMP:20260424T000647
CREATED:20210929T122916Z
LAST-MODIFIED:20210929T122916Z
UID:1136-1636185600-1636203600@magnoliaheightsneighborhood.com
SUMMARY:Magnolia Heights Community Yard Sale
DESCRIPTION:Get ready for the return of the Annual Magnolia Heights Community Wide Yard Sale!\nInclude your address on the neighborhood map for $5. The sale will be advertised online and in the Tampa Bay Times.\nSend your payment via Paypal: https://www.paypal.com/donate?hosted_button_id=54N7ELWARUE98\nEmail maghtsnews@gmail.com by 10/31 to confirm your participation.
URL:https://magnoliaheightsneighborhood.com/event/magnolia-heights-community-yard-sale/
CATEGORIES:Yard Sale
ATTACH;FMTTYPE=image/jpeg:https://magnoliaheightsneighborhood.com/wp-content/uploads/2021/09/yardsale.jpg
ORGANIZER;CN="Magnolia Heights Neighborhood Association":MAILTO:maghtsnews@gmail.com
END:VEVENT
END:VCALENDAR