BEGIN:VCALENDAR
VERSION:2.0
PRODID:-//Magnolia Heights Neighborhood Association - ECPv6.15.20//NONSGML v1.0//EN
CALSCALE:GREGORIAN
METHOD:PUBLISH
X-ORIGINAL-URL:https://magnoliaheightsneighborhood.com
X-WR-CALDESC:Events for Magnolia Heights Neighborhood Association
REFRESH-INTERVAL;VALUE=DURATION:PT1H
X-Robots-Tag:noindex
X-PUBLISHED-TTL:PT1H
BEGIN:VTIMEZONE
TZID:America/New_York
BEGIN:DAYLIGHT
TZOFFSETFROM:-0500
TZOFFSETTO:-0400
TZNAME:EDT
DTSTART:20250309T070000
END:DAYLIGHT
BEGIN:STANDARD
TZOFFSETFROM:-0400
TZOFFSETTO:-0500
TZNAME:EST
DTSTART:20251102T060000
END:STANDARD
BEGIN:DAYLIGHT
TZOFFSETFROM:-0500
TZOFFSETTO:-0400
TZNAME:EDT
DTSTART:20260308T070000
END:DAYLIGHT
BEGIN:STANDARD
TZOFFSETFROM:-0400
TZOFFSETTO:-0500
TZNAME:EST
DTSTART:20261101T060000
END:STANDARD
BEGIN:DAYLIGHT
TZOFFSETFROM:-0500
TZOFFSETTO:-0400
TZNAME:EDT
DTSTART:20270314T070000
END:DAYLIGHT
BEGIN:STANDARD
TZOFFSETFROM:-0400
TZOFFSETTO:-0500
TZNAME:EST
DTSTART:20271107T060000
END:STANDARD
END:VTIMEZONE
BEGIN:VEVENT
DTSTART;TZID=America/New_York:20260328T080000
DTEND;TZID=America/New_York:20260328T140000
DTSTAMP:20260423T192638
CREATED:20251101T171156Z
LAST-MODIFIED:20251101T173833Z
UID:1767-1774684800-1774706400@magnoliaheightsneighborhood.com
SUMMARY:2026 Neighborhood Yard Sale
DESCRIPTION:March 28th ‘Spring Cleaning’ Yard Sale! \n\nLook for the ‘yard sale’ signs directing shoppers to yard sale addresses.\nMaps available at each location to guide you through all locations.\n\nOnline map —–>  HERE\nOnline application form —->  HERE
URL:https://magnoliaheightsneighborhood.com/event/2026-neighborhood-yard-sale/
END:VEVENT
BEGIN:VEVENT
DTSTART;TZID=America/New_York:20260329T170000
DTEND;TZID=America/New_York:20260329T180000
DTSTAMP:20260423T192638
CREATED:20260311T162624Z
LAST-MODIFIED:20260311T162624Z
UID:1820-1774803600-1774807200@magnoliaheightsneighborhood.com
SUMMARY:Planning for Block Party - Volunteers Needed
DESCRIPTION:All are welcome to attend. \nWe have a lot of experienced people  who will work side by side with you and create another amazing event.  We are seeking volunteers for the Food line\, Membership table\, Game setup\, Stage setup\, and breakdown at end of event. \n\nLocation:  George’s house 3319 12th St N\nDate:  Sunday Feb 22\nTime:  5 – 6pm\nSnacks available\n\nThis year the Block Party is scheduled for Saturday April 18th\, 4pm-8pm. \nLink to that event:  https://magnoliaheightsneighborhood.com/event/2026-spring-block-party/
URL:https://magnoliaheightsneighborhood.com/event/planning-for-block-party-volunteers-needed/
END:VEVENT
BEGIN:VEVENT
DTSTART;TZID=America/New_York:20260418T160000
DTEND;TZID=America/New_York:20260418T200000
DTSTAMP:20260423T192638
CREATED:20250722T165457Z
LAST-MODIFIED:20260402T170439Z
UID:1738-1776528000-1776542400@magnoliaheightsneighborhood.com
SUMMARY:2026 Spring Block Party - April 18\, 4pm-8pm
DESCRIPTION:Saturday April 18\, 4pm-8pm.   12th St N and 34th Street N. \nA City of St. Petersburg sponsored event that is open to the public.Walk or bike over as parking will be limited to the street.– Live music by Sunset Desperados– Free food while supplies last– St. Pete Fire Rescue truck– Games and Free Plant Exchange– Children’s activities and Face Painting– Rain Date: Sunday April 19th– Dogs must be on leash please
URL:https://magnoliaheightsneighborhood.com/event/2026-spring-block-party/
END:VEVENT
BEGIN:VEVENT
DTSTART;TZID=America/New_York:20260421T190000
DTEND;TZID=America/New_York:20260421T200000
DTSTAMP:20260423T192638
CREATED:20251101T192300Z
LAST-MODIFIED:20260305T215458Z
UID:1777-1776798000-1776801600@magnoliaheightsneighborhood.com
SUMMARY:April Meeting
DESCRIPTION:Please join us for: \n\nReport from our CSO Officer Samantha Reeder\nSpeaker Austin Smith\, City Recycling Coordinator\nSignup for Porch Parties\, Block Party\, Speaker suggestions\nOpen Forum for questions\, concerns\, suggestions\n\nAlways looking for interesting guest speakers.  Email maghtsnews@gmail.com with information.\n\n\n\n📅 Meetings are held on the third Tuesday of each month at 7pm\n🔗 Email:  maghtsnews@gmail.com\n🤝 MHNA events are open to all residents of Magnolia Heights\, whether they own or rent.
URL:https://magnoliaheightsneighborhood.com/event/april-meeting-4/
END:VEVENT
BEGIN:VEVENT
DTSTART;TZID=America/New_York:20260425T080000
DTEND;TZID=America/New_York:20260425T190000
DTSTAMP:20260423T192638
CREATED:20251119T192703Z
LAST-MODIFIED:20251119T192703Z
UID:1802-1777104000-1777143600@magnoliaheightsneighborhood.com
SUMMARY:Neighborhood Cleanup
DESCRIPTION:Bring your large items to dispose of in the city dumpster that will be located on 12th St near 34th Ave N. \n  \nThe City of St. Petersburg Neighborhood Relations Department coordinates the Neighborhood Cleanups with the City’s Sanitation Department to allow neighborhood associations to schedule a free dumpster for an annual cleanup weekend. A 20-yard roll-off container is placed within the neighborhood for citizens to dispose of non-hazardous trash from neighborhood alleys\, streets\, right of ways\, waterways and homes.
URL:https://magnoliaheightsneighborhood.com/event/neighborhood-cleanup/
END:VEVENT
BEGIN:VEVENT
DTSTART;TZID=America/New_York:20260519T190000
DTEND;TZID=America/New_York:20260519T200000
DTSTAMP:20260423T192638
CREATED:20251101T192319Z
LAST-MODIFIED:20260402T171152Z
UID:1778-1779217200-1779220800@magnoliaheightsneighborhood.com
SUMMARY:May Meeting
DESCRIPTION:Please join us for: \n\nReport from our Community Officer\nGuest Speaker is Tricia Smith with St Pete Libraries.  Sign up for your library card here!\nOpen Forum for questions\, concerns\, suggestions\n\nAlways looking for interesting guest speakers.  Email maghtsnews@gmail.com with information.\n\n\n\n📅 Meetings are held on the third Tuesday of each month at 7pm\n🔗 Email:  maghtsnews@gmail.com\n🤝 MHNA events are open to all residents of Magnolia Heights\, whether they own or rent.
URL:https://magnoliaheightsneighborhood.com/event/may-meeting-3/
END:VEVENT
BEGIN:VEVENT
DTSTART;TZID=America/New_York:20260616T190000
DTEND;TZID=America/New_York:20260616T200000
DTSTAMP:20260423T192638
CREATED:20251101T192336Z
LAST-MODIFIED:20260402T173237Z
UID:1779-1781636400-1781640000@magnoliaheightsneighborhood.com
SUMMARY:June Meeting
DESCRIPTION:Please join us for: \n\nReport from our Community Officer\nGuest Speaker Lindsey Cross Florida House of Representatives for the 60th district\nOpen Forum for questions\, concerns\, suggestions\n\nAlways looking for interesting guest speakers.  Email maghtsnews@gmail.com with information.\n\n\n\n📅 Meetings are held on the third Tuesday of each month at 7pm\n🔗 Email:  maghtsnews@gmail.com\n🤝 MHNA events are open to all residents of Magnolia Heights\, whether they own or rent.
URL:https://magnoliaheightsneighborhood.com/event/june-meeting-2/
END:VEVENT
BEGIN:VEVENT
DTSTART;TZID=America/New_York:20260721T190000
DTEND;TZID=America/New_York:20260721T200000
DTSTAMP:20260423T192638
CREATED:20251101T192849Z
LAST-MODIFIED:20260306T212523Z
UID:1789-1784660400-1784664000@magnoliaheightsneighborhood.com
SUMMARY:July Meeting
DESCRIPTION:Please join us for: \n\nReport from our CSO Officer Samantha Reeder\nGuest Speaker Kira Barrera\, Special Projects Coordinator with St. Pete Water Resources Dept.  She will be speaking drinking water and also wastewater utilities related in the city.\nOpen Forum for questions\, concerns\, suggestions\n\nAlways looking for interesting guest speakers.  Email maghtsnews@gmail.com with information.\n\n\n\n📅 Meetings are held on the third Tuesday of each month at 7pm\n🔗 Email:  maghtsnews@gmail.com\n🤝 MHNA events are open to all residents of Magnolia Heights\, whether they own or rent.
URL:https://magnoliaheightsneighborhood.com/event/july-meeting-2/
END:VEVENT
BEGIN:VEVENT
DTSTART;TZID=America/New_York:20260818T190000
DTEND;TZID=America/New_York:20260818T200000
DTSTAMP:20260423T192638
CREATED:20251101T192907Z
LAST-MODIFIED:20260402T171042Z
UID:1790-1787079600-1787083200@magnoliaheightsneighborhood.com
SUMMARY:August Meeting
DESCRIPTION:Please join us for: \n\nReport from our Community O Officer\nGuest Speaker is Lisset Hanewicz\, District 4 City Councilor\nOpen Forum for questions\, concerns\, suggestions\n\nAlways looking for interesting guest speakers.  Email maghtsnews@gmail.com with information.\n\n\n\n📅 Meetings are held on the third Tuesday of each month at 7pm\n🔗 Email:  maghtsnews@gmail.com\n🤝 MHNA events are open to all residents of Magnolia Heights\, whether they own or rent.
URL:https://magnoliaheightsneighborhood.com/event/august-meeting-2/
END:VEVENT
BEGIN:VEVENT
DTSTART;TZID=America/New_York:20260915T190000
DTEND;TZID=America/New_York:20260915T200000
DTSTAMP:20260423T192638
CREATED:20251101T192929Z
LAST-MODIFIED:20260402T180132Z
UID:1791-1789498800-1789502400@magnoliaheightsneighborhood.com
SUMMARY:September Meeting
DESCRIPTION:Please join us for: \n\nReport from our Community Officer\nGuest Speaker is Elizabeth Bonert with Friends of Boyd Hill\nOpen Forum for questions\, concerns\, suggestions\n\nAlways looking for interesting guest speakers.  Email maghtsnews@gmail.com with information.\n\n\n\n📅 Meetings are held on the third Tuesday of each month at 7pm\n🔗 Email:  maghtsnews@gmail.com\n🤝 MHNA events are open to all residents of Magnolia Heights\, whether they own or rent.
URL:https://magnoliaheightsneighborhood.com/event/september-meeting-2/
END:VEVENT
BEGIN:VEVENT
DTSTART;TZID=America/New_York:20261020T190000
DTEND;TZID=America/New_York:20261020T200000
DTSTAMP:20260423T192638
CREATED:20251101T192955Z
LAST-MODIFIED:20260402T171316Z
UID:1792-1792522800-1792526400@magnoliaheightsneighborhood.com
SUMMARY:October Meeting
DESCRIPTION:Please join us for: \n\nReport from our Community Officer\nGuest Speaker is Richie Floyd\, District 8 Council Member\nOpen Forum for questions\, concerns\, suggestions\n\nAlways looking for interesting guest speakers.  Email maghtsnews@gmail.com with information.\n\n\n\n📅 Meetings are held on the third Tuesday of each month at 7pm\n🔗 Email:  maghtsnews@gmail.com\n🤝 MHNA events are open to all residents of Magnolia Heights\, whether they own or rent.
URL:https://magnoliaheightsneighborhood.com/event/october-meeting-2/
END:VEVENT
BEGIN:VEVENT
DTSTART;TZID=America/New_York:20261031T180000
DTEND;TZID=America/New_York:20261031T200000
DTSTAMP:20260423T192638
CREATED:20251101T192810Z
LAST-MODIFIED:20251101T192810Z
UID:1793-1793469600-1793476800@magnoliaheightsneighborhood.com
SUMMARY:Trick or Treat Map 2026
DESCRIPTION:Magnolia Heights loves our Trick or Treaters!  Whether you’re handing out treats or haunting the sidewalk\, everyone can get in on the celebration! If you want more visitors\, decorate your door or display a pumpkin so trick-or-treaters know you’re open for business. \n\nLooking for ways to make your house the hotspot?\n\nAdd your address (Link here soon) to be included on a map to guide trick-or-treaters.\nSet up fun decorations or a glowing jack-o-lantern to welcome ghouls and witches.\n\n\n(Link here soon) is the link to the map of participating homes.\nHand out glowsticks or special treats for extra smiles.\n\nLet’s make this Halloween the most fang-tastic ever—grab your best disguises\, turn on your lights\, and let the good times roll.
URL:https://magnoliaheightsneighborhood.com/event/trick-or-treat-map-2026/
END:VEVENT
BEGIN:VEVENT
DTSTART;TZID=America/New_York:20261117T190000
DTEND;TZID=America/New_York:20261117T200000
DTSTAMP:20260423T192638
CREATED:20251101T193018Z
LAST-MODIFIED:20251101T193018Z
UID:1794-1794942000-1794945600@magnoliaheightsneighborhood.com
SUMMARY:November Meeting
DESCRIPTION:Please join us for: \n\nReport from our CSO Officer Samantha Reeder\nSignup for Porch Parties\, Block Party\, Speaker suggestions\nOpen Forum for questions\, concerns\, suggestions\n\nAlways looking for interesting guest speakers.  Email maghtsnews@gmail.com with information.\n\n\n\n📅 Meetings are held on the third Tuesday of each month at 7pm\n🔗 Email:  maghtsnews@gmail.com\n🤝 MHNA events are open to all residents of Magnolia Heights\, whether they own or rent.
URL:https://magnoliaheightsneighborhood.com/event/november-meeting-2/
END:VEVENT
END:VCALENDAR