BEGIN:VCALENDAR
VERSION:2.0
PRODID:-//Magnolia Heights Neighborhood Association - ECPv6.15.20//NONSGML v1.0//EN
CALSCALE:GREGORIAN
METHOD:PUBLISH
X-WR-CALNAME:Magnolia Heights Neighborhood Association
X-ORIGINAL-URL:https://magnoliaheightsneighborhood.com
X-WR-CALDESC:Events for Magnolia Heights Neighborhood Association
REFRESH-INTERVAL;VALUE=DURATION:PT1H
X-Robots-Tag:noindex
X-PUBLISHED-TTL:PT1H
BEGIN:VTIMEZONE
TZID:America/New_York
BEGIN:DAYLIGHT
TZOFFSETFROM:-0500
TZOFFSETTO:-0400
TZNAME:EDT
DTSTART:20200308T070000
END:DAYLIGHT
BEGIN:STANDARD
TZOFFSETFROM:-0400
TZOFFSETTO:-0500
TZNAME:EST
DTSTART:20201101T060000
END:STANDARD
BEGIN:DAYLIGHT
TZOFFSETFROM:-0500
TZOFFSETTO:-0400
TZNAME:EDT
DTSTART:20210314T070000
END:DAYLIGHT
BEGIN:STANDARD
TZOFFSETFROM:-0400
TZOFFSETTO:-0500
TZNAME:EST
DTSTART:20211107T060000
END:STANDARD
BEGIN:DAYLIGHT
TZOFFSETFROM:-0500
TZOFFSETTO:-0400
TZNAME:EDT
DTSTART:20220313T070000
END:DAYLIGHT
BEGIN:STANDARD
TZOFFSETFROM:-0400
TZOFFSETTO:-0500
TZNAME:EST
DTSTART:20221106T060000
END:STANDARD
END:VTIMEZONE
BEGIN:VEVENT
DTSTART;TZID=America/New_York:20210316T190000
DTEND;TZID=America/New_York:20210316T200000
DTSTAMP:20260424T053742
CREATED:20210309T204811Z
LAST-MODIFIED:20210309T204811Z
UID:1066-1615921200-1615924800@magnoliaheightsneighborhood.com
SUMMARY:MHNA General Meeting
DESCRIPTION:Magnolia Heights Neighborhood Association meetings are back – virtually! \nJoin us on zoom to connect with your neighbors and get informed. \nMeetings are held on the third Tuesday of each month at 7pm via zoom. Email maghtsnews@gmail.com for login information. \nMagnolia Heights Neighborhood Association membership dues are $20 per year per household. Dues help cover our annual costs\, events\, and other neighborhood activities. Join today! https://magnoliaheightsneighborhood.com/membership
URL:https://magnoliaheightsneighborhood.com/event/mhna-general-meeting-2/
CATEGORIES:Monthly Meeting
ATTACH;FMTTYPE=image/jpeg:https://magnoliaheightsneighborhood.com/wp-content/uploads/2021/02/IMG-2425-scaled.jpg
ORGANIZER;CN="Magnolia Heights Neighborhood Association":MAILTO:maghtsnews@gmail.com
END:VEVENT
BEGIN:VEVENT
DTSTART;VALUE=DATE:20210301
DTEND;VALUE=DATE:20210401
DTSTAMP:20260424T053742
CREATED:20210224T171618Z
LAST-MODIFIED:20210224T171948Z
UID:1057-1614556800-1617235199@magnoliaheightsneighborhood.com
SUMMARY:Spring CareFest
DESCRIPTION:To maintain social distance\, we’re inviting neighbors to clean up an alley or donate to a non-profit anytime during the month of March. \nPost a picture of your cleanup or donation to the Magnolia Heights Facebook group or page with the hashtag #lifeisbetterintheheights \nPlease wear a mask if you are working in the same alley with people who are not from your household. We want this to be a safe event for all!
URL:https://magnoliaheightsneighborhood.com/event/spring-carefest/
CATEGORIES:Volunteer
ATTACH;FMTTYPE=image/jpeg:https://magnoliaheightsneighborhood.com/wp-content/uploads/2021/02/CareFest.jpg
ORGANIZER;CN="Magnolia Heights Neighborhood Association":MAILTO:maghtsnews@gmail.com
END:VEVENT
BEGIN:VEVENT
DTSTART;TZID=America/New_York:20210217T190000
DTEND;TZID=America/New_York:20210217T200000
DTSTAMP:20260424T053742
CREATED:20210204T162420Z
LAST-MODIFIED:20210204T162547Z
UID:1035-1613588400-1613592000@magnoliaheightsneighborhood.com
SUMMARY:MHNA General Meeting: February
DESCRIPTION:Magnolia Heights Neighborhood Association meetings are back – virtually! \nJoin us on zoom to connect with your neighbors and get informed. \nMeetings are held on the third Tuesday of each month at 7pm. Currently\, meetings are being held by Zoom video conference.\nEmail maghtsnews@gmail.com for login information.
URL:https://magnoliaheightsneighborhood.com/event/mhna-general-meeting-february/
CATEGORIES:Monthly Meeting
ATTACH;FMTTYPE=image/png:https://magnoliaheightsneighborhood.com/wp-content/uploads/2016/06/cropped-logo.png
ORGANIZER;CN="Magnolia Heights Neighborhood Association":MAILTO:maghtsnews@gmail.com
END:VEVENT
BEGIN:VEVENT
DTSTART;TZID=America/New_York:20210119T190000
DTEND;TZID=America/New_York:20210119T200000
DTSTAMP:20260424T053742
CREATED:20210112T180752Z
LAST-MODIFIED:20210112T180849Z
UID:1030-1611082800-1611086400@magnoliaheightsneighborhood.com
SUMMARY:MHNA Meeting
DESCRIPTION:Magnolia Heights Neighborhood Association meetings are back – virtually! \nJoin us on zoom to connect with your neighbors and get informed. \nMeetings are held on the third Tuesday of each month at 7pm. Currently meetings are being held by Zoom video conference. Email maghtsnews@gmail.com for login information. \nWe are currently accepting nominations for 2021 board positions. If you have a couple extra hours each month and are interested in joining the board please email maghtsnews@gmail.com. \nTo be eligible to vote (and/or run for a board position) you must be an active member of the Association. Magnolia Heights Neighborhood Association membership dues are $20 per year per household. Dues help cover our annual costs\, events\, and other neighborhood activities.\nJoin today! https://magnoliaheightsneighborhood.com/membership
URL:https://magnoliaheightsneighborhood.com/event/mhna-meeting/
CATEGORIES:Monthly Meeting
ORGANIZER;CN="Magnolia Heights Neighborhood Association":MAILTO:maghtsnews@gmail.com
END:VEVENT
END:VCALENDAR